BEGIN:VCALENDAR
VERSION:2.0
PRODID:-//Squarespace Inc/Squarespace 6//v6//EN
BEGIN:VEVENT
UID:5b98832e562fa774edfe53c1@squarespace.com
DTSTAMP:20180912T030851Z
DTSTART:20181122T000000Z
DTEND:20181122T010000Z
SUMMARY:Coffee n Yarns\, Gray Family Centre
END:VEVENT
END:VCALENDAR
