BEGIN:VCALENDAR
VERSION:2.0
PRODID:-//Squarespace Inc/Squarespace 6//v6//EN
BEGIN:VEVENT
UID:5b988105b8a0459b5bfde485@squarespace.com
DTSTAMP:20180912T030116Z
DTSTART:20181129T000000Z
DTEND:20181129T010000Z
SUMMARY:Coffee n Yarns\, Palmerston CFC\, Farrar
END:VEVENT
END:VCALENDAR
