BEGIN:VCALENDAR
VERSION:2.0
PRODID:-//Squarespace Inc/Squarespace 6//v6//EN
BEGIN:VEVENT
UID:5b987b712b6a28301fa2bbb7@squarespace.com
DTSTAMP:20181108T051341Z
DTSTART:20181129T234500Z
DTEND:20181130T004500Z
SUMMARY:g4gd Coolalinga - Session 1
END:VEVENT
END:VCALENDAR
